BEGIN:VCALENDAR
VERSION:2.0
PRODID:-//Rochester Secondary College - ECPv4.6.8//NONSGML v1.0//EN
CALSCALE:GREGORIAN
METHOD:PUBLISH
X-WR-CALNAME:Rochester Secondary College
X-ORIGINAL-URL:https://www.rochsec.vic.edu.au
X-WR-CALDESC:Events for Rochester Secondary College
BEGIN:VEVENT
DTSTART;VALUE=DATE:20180129
DTEND;VALUE=DATE:20180130
DTSTAMP:20180226T075238
CREATED:20171122T054138Z
LAST-MODIFIED:20171122T054139Z
UID:3682-1517184000-1517270399@www.rochsec.vic.edu.au
SUMMARY:Staff return 2018
DESCRIPTION:
URL:https://www.rochsec.vic.edu.au/event/staff-return-2018/
END:VEVENT
BEGIN:VEVENT
DTSTART;VALUE=DATE:20180130
DTEND;VALUE=DATE:20180131
DTSTAMP:20180226T075238
CREATED:20171106T002815Z
LAST-MODIFIED:20171106T002815Z
UID:3654-1517270400-1517356799@www.rochsec.vic.edu.au
SUMMARY:Year 7\, 11 & 12 students return 2018
DESCRIPTION:2018 Return to school date \n
URL:https://www.rochsec.vic.edu.au/event/year-7-11-12-students-return-2018/
END:VEVENT
BEGIN:VEVENT
DTSTART;VALUE=DATE:20180131
DTEND;VALUE=DATE:20180201
DTSTAMP:20180226T075238
CREATED:20171106T002835Z
LAST-MODIFIED:20171106T002835Z
UID:3656-1517356800-1517443199@www.rochsec.vic.edu.au
SUMMARY:All students to attend 2018
DESCRIPTION:
URL:https://www.rochsec.vic.edu.au/event/all-students-to-attend-2018/
END:VEVENT
BEGIN:VEVENT
DTSTART;TZID=UTC+10:20180212T120000
DTEND;TZID=UTC+10:20180212T140000
DTSTAMP:20180226T075238
CREATED:20180211T231939Z
LAST-MODIFIED:20180211T231956Z
UID:3713-1518436800-1518444000@www.rochsec.vic.edu.au
SUMMARY:Richmond Footballers Visit
DESCRIPTION:
URL:https://www.rochsec.vic.edu.au/event/richmond-footballs-visit/
END:VEVENT
BEGIN:VEVENT
DTSTART;TZID=UTC+10:20180213T090000
DTEND;TZID=UTC+10:20180213T110000
DTSTAMP:20180226T075238
CREATED:20180211T234720Z
LAST-MODIFIED:20180211T234759Z
UID:3743-1518512400-1518519600@www.rochsec.vic.edu.au
SUMMARY:MUSIC Lessons
DESCRIPTION:Music Lessons 13th\, 20th\, 27th February    13th\, 20th\, 27th March \n$30 per lesson for 1/2 hour on a Tuesday on a rotation roster \n
URL:https://www.rochsec.vic.edu.au/event/music-lessons/
END:VEVENT
BEGIN:VEVENT
DTSTART;TZID=UTC+10:20180214T090000
DTEND;TZID=UTC+10:20180214T093000
DTSTAMP:20180226T075238
CREATED:20180211T232323Z
LAST-MODIFIED:20180211T232343Z
UID:3721-1518598800-1518600600@www.rochsec.vic.edu.au
SUMMARY:Induction Assembly at RSC
DESCRIPTION:For all School Captains and House Captains \n
URL:https://www.rochsec.vic.edu.au/event/induction-assembly-at-rsc/
END:VEVENT
BEGIN:VEVENT
DTSTART;VALUE=DATE:20180216
DTEND;VALUE=DATE:20180217
DTSTAMP:20180226T075238
CREATED:20180211T232036Z
LAST-MODIFIED:20180211T233455Z
UID:3716-1518739200-1518825599@www.rochsec.vic.edu.au
SUMMARY:RSC House Swimming Sports
DESCRIPTION:All students are expected to attend &#8211; Wear your House colours \n
URL:https://www.rochsec.vic.edu.au/event/rsc-house-swimming-sports-4/
END:VEVENT
BEGIN:VEVENT
DTSTART;TZID=UTC+10:20180222T103000
DTEND;TZID=UTC+10:20180222T113000
DTSTAMP:20180226T075238
CREATED:20180211T232219Z
LAST-MODIFIED:20180211T232219Z
UID:3718-1519295400-1519299000@www.rochsec.vic.edu.au
SUMMARY:Parents Club Meeting
DESCRIPTION:At Rochester Secondary College All Welcome to attend \n
URL:https://www.rochsec.vic.edu.au/event/parents-club-meeting-3/
END:VEVENT
BEGIN:VEVENT
DTSTART;TZID=UTC+10:20180222T180000
DTEND;TZID=UTC+10:20180222T203000
DTSTAMP:20180226T075238
CREATED:20180211T232421Z
LAST-MODIFIED:20180211T232502Z
UID:3724-1519322400-1519331400@www.rochsec.vic.edu.au
SUMMARY:School Council Meeting
DESCRIPTION:
URL:https://www.rochsec.vic.edu.au/event/school-council-5/
END:VEVENT
BEGIN:VEVENT
DTSTART;TZID=UTC+10:20180223T090000
DTEND;TZID=UTC+10:20180223T104000
DTSTAMP:20180226T075238
CREATED:20180219T053827Z
LAST-MODIFIED:20180219T053827Z
UID:3761-1519376400-1519382400@www.rochsec.vic.edu.au
SUMMARY:WARTs Excursion to Lockington
DESCRIPTION:
URL:https://www.rochsec.vic.edu.au/event/warts-excursion-to-lockington/
END:VEVENT
BEGIN:VEVENT
DTSTART;VALUE=DATE:20180226
DTEND;VALUE=DATE:20180227
DTSTAMP:20180226T075238
CREATED:20180219T053852Z
LAST-MODIFIED:20180219T053852Z
UID:3763-1519603200-1519689599@www.rochsec.vic.edu.au
SUMMARY:Interschool Swimming Sports Echuca
DESCRIPTION:
URL:https://www.rochsec.vic.edu.au/event/interschool-swimming-sports-echuca/
END:VEVENT
BEGIN:VEVENT
DTSTART;TZID=UTC+10:20180228T084500
DTEND;TZID=UTC+10:20180228T163000
DTSTAMP:20180226T075238
CREATED:20180218T231130Z
LAST-MODIFIED:20180218T231130Z
UID:3757-1519807500-1519835400@www.rochsec.vic.edu.au
SUMMARY:VCD Excursion to Shepparton
DESCRIPTION:Depart Edward Street \nYear 11 & 12 VCD Students \n
URL:https://www.rochsec.vic.edu.au/event/vcd-excursion-to-shepparton/
END:VEVENT
END:VCALENDAR